BEGIN:VCALENDAR
VERSION:2.0
PRODID:-//eventon.com NONSGML v1.0//EN
CALSCALE:GREGORIAN
METHOD:PUBLISH
BEGIN:VEVENT
UID:69e8bf4fd8bd8
DTSTAMP:20260422T123007Z
DTSTART:20230624T090000Z
DTEND:20230624T135000Z
LOCATION:
SUMMARY:Grevernes Cup 2023
DESCRIPTION:Grevernes Cup 2023\nhttps://fgc.dk/aktivitet/grevernes-cup-2023
 /
URL:https://fgc.dk/aktivitet/grevernes-cup-2023/
END:VEVENT
END:VCALENDAR