BEGIN:VCALENDAR
VERSION:2.0
PRODID:-//eventon.com NONSGML v1.0//EN
CALSCALE:GREGORIAN
METHOD:PUBLISH
BEGIN:VEVENT
UID:69ece1ee62f70
DTSTAMP:20260425T154654Z
DTSTART:20230618T060000Z
DTEND:20230618T101000Z
LOCATION:
SUMMARY:Danmarksturnering 2023
DESCRIPTION:Danmarksturnering 2023\nhttps://fgc.dk/aktivitet/danmarksturner
 ing-2023-4/
URL:https://fgc.dk/aktivitet/danmarksturnering-2023-4/
END:VEVENT
END:VCALENDAR