BEGIN:VCALENDAR
VERSION:2.0
PRODID:-//eventon.com NONSGML v1.0//EN
CALSCALE:GREGORIAN
METHOD:PUBLISH
BEGIN:VEVENT
UID:69e97de6ad90a
DTSTAMP:20260423T020318Z
DTSTART:20220718T090000Z
DTEND:20220718T093000Z
LOCATION:
SUMMARY:Smørum GK herrer
DESCRIPTION:Smørum GK herrer\nhttps://fgc.dk/aktivitet/smoerum-gk-herrer/
URL:https://fgc.dk/aktivitet/smoerum-gk-herrer/
END:VEVENT
END:VCALENDAR